BEGIN:VCALENDAR
VERSION:2.0
PRODID:-//Autour d&#039;un Piano 1890 - ECPv6.15.20//NONSGML v1.0//EN
CALSCALE:GREGORIAN
METHOD:PUBLISH
X-WR-CALNAME:Autour d&#039;un Piano 1890
X-ORIGINAL-URL:https://piano-occitanie.fr
X-WR-CALDESC:Évènements pour Autour d&#039;un Piano 1890
REFRESH-INTERVAL;VALUE=DURATION:PT1H
X-Robots-Tag:noindex
X-PUBLISHED-TTL:PT1H
BEGIN:VTIMEZONE
TZID:Europe/Paris
BEGIN:DAYLIGHT
TZOFFSETFROM:+0100
TZOFFSETTO:+0200
TZNAME:CEST
DTSTART:20210328T010000
END:DAYLIGHT
BEGIN:STANDARD
TZOFFSETFROM:+0200
TZOFFSETTO:+0100
TZNAME:CET
DTSTART:20211031T010000
END:STANDARD
BEGIN:DAYLIGHT
TZOFFSETFROM:+0100
TZOFFSETTO:+0200
TZNAME:CEST
DTSTART:20220327T010000
END:DAYLIGHT
BEGIN:STANDARD
TZOFFSETFROM:+0200
TZOFFSETTO:+0100
TZNAME:CET
DTSTART:20221030T010000
END:STANDARD
BEGIN:DAYLIGHT
TZOFFSETFROM:+0100
TZOFFSETTO:+0200
TZNAME:CEST
DTSTART:20230326T010000
END:DAYLIGHT
BEGIN:STANDARD
TZOFFSETFROM:+0200
TZOFFSETTO:+0100
TZNAME:CET
DTSTART:20231029T010000
END:STANDARD
BEGIN:DAYLIGHT
TZOFFSETFROM:+0100
TZOFFSETTO:+0200
TZNAME:CEST
DTSTART:20240331T010000
END:DAYLIGHT
BEGIN:STANDARD
TZOFFSETFROM:+0200
TZOFFSETTO:+0100
TZNAME:CET
DTSTART:20241027T010000
END:STANDARD
BEGIN:DAYLIGHT
TZOFFSETFROM:+0100
TZOFFSETTO:+0200
TZNAME:CEST
DTSTART:20250330T010000
END:DAYLIGHT
BEGIN:STANDARD
TZOFFSETFROM:+0200
TZOFFSETTO:+0100
TZNAME:CET
DTSTART:20251026T010000
END:STANDARD
BEGIN:DAYLIGHT
TZOFFSETFROM:+0100
TZOFFSETTO:+0200
TZNAME:CEST
DTSTART:20260329T010000
END:DAYLIGHT
BEGIN:STANDARD
TZOFFSETFROM:+0200
TZOFFSETTO:+0100
TZNAME:CET
DTSTART:20261025T010000
END:STANDARD
END:VTIMEZONE
BEGIN:VEVENT
DTSTART;TZID=Europe/Paris:20250712T203000
DTEND;TZID=Europe/Paris:20250712T230000
DTSTAMP:20260420T142921
CREATED:20250703T143518Z
LAST-MODIFIED:20250703T143927Z
UID:1088-1752352200-1752361200@piano-occitanie.fr
SUMMARY:Aurelie Samani interprète Mel Bonis
DESCRIPTION:SAMEDI 12 JUILLET 2025 à 20H30 : Vie et Oeuvre de Mel BONIS (1858 – 1937) concert-récit par Aurélie SAMANI au piano et Nathalie AMAT à la flûte \n\n\n\nCompositrice post-romantique hélas méconnue\, elle fut notamment l’élève de César Franck et de Charles Koechlin\, elle fait partie des artistes les plus avant-gardistes en France au début du XXème siècle. \n\n\n\nVenez la découvrir entre récit et interprétation de ses compositions au style très personnel qui s’apparente à celui de l’un de ses maîtres Gabriel Fauré ainsi qu’à d’autres compositeurs comme Debussy. \n\n\n\nMélanie Bonis s’engage dans des études de musique au cours desquelles elle reçoit plusieurs récompenses ( premiers prix\, lauréate de sa classe..) et pour lesquelles elle est particulièrement douée. \n\n\n\nSous la pression de ses parents\, elle est contrainte d’abandonner sa carrière musicale et de se marier avec un homme beaucoup plus âgé qu’elle et qui a déjà plusieurs enfants dont elle doit s’occuper. Malgré les obstacles\, elle parvient à composer et à tracer sa vie comme femme et comme musicenne. C’est cette vie passionnante que nous allons découvrir ! \n\n\n\nUn chapeau circulera à la fin du concert. Il sera intégralement remis à Mesdames SAMANI \, l’association ne pouvant les rémunérer. Merci d’y penser. \n\n\n\nEspérant vous voir nombreux lors de ces événements\, merci de penser à renouveler votre adhésion annuelle  à l’association afin de nous permettre de poursuivre ses activités.
URL:https://piano-occitanie.fr/evenement/aurelie-samani-interprete-mel-bonis/
ORGANIZER;CN="Association Autour d'un piano":MAILTO:asso.piano1890@gmail.com
END:VEVENT
BEGIN:VEVENT
DTSTART;TZID=Europe/Paris:20250706T153000
DTEND;TZID=Europe/Paris:20250706T180000
DTSTAMP:20260420T142921
CREATED:20250703T143311Z
LAST-MODIFIED:20250703T143933Z
UID:1086-1751815800-1751824800@piano-occitanie.fr
SUMMARY:Récital Lyrique des élèves
DESCRIPTION:DIMANCHE 6 JUILLET 2025 à 15H30 : audition des élèves de Madame Sophie Hervé \n\n\n\nMme Sophie Hervé\, professeur de chant reconnue par les grands de l’opéra\, vient animer un stage de 10 jours dans les Hautes Pyrénées avec ses élèves en voie de professionnalisation et jeunes professionnels du chant lyrique. Elle a sollicité l’Association afin que ses élèves  puissent se produire devant un public. \n\n\n\nLes élèves seront accompagnés au piano par Agnès Bajon. Parmi les élèves\, nous aurons le plaisir d’entendre Mme Sarah David-Filleau que nous avons reçu à l’automne dernier lors d’un concert sur le thème de l’amour. \n\n\n\nSophie Hervé a un itinéraire passionné entre la scène\, l’enseignement\, l’écriture\, elle est professeure aux conservatoires des XVIIIème et VIIIème arrondissements de Paris. Elle forme de jeunes artistes qui se présentent aux concours et auditions.
URL:https://piano-occitanie.fr/evenement/recital-lyrique-des-eleves/
END:VEVENT
BEGIN:VEVENT
DTSTART;TZID=Europe/Paris:20250603T200000
DTEND;TZID=Europe/Paris:20250603T230000
DTSTAMP:20260420T142921
CREATED:20250523T145708Z
LAST-MODIFIED:20250523T154058Z
UID:1075-1748980800-1748991600@piano-occitanie.fr
SUMMARY:La rencontre du Classique et du Ja
DESCRIPTION:
URL:https://piano-occitanie.fr/evenement/la-rencontre-du-classique-et-du-jazz/
END:VEVENT
BEGIN:VEVENT
DTSTART;TZID=Europe/Paris:20241214T200000
DTEND;TZID=Europe/Paris:20241214T223000
DTSTAMP:20260420T142921
CREATED:20241011T235402Z
LAST-MODIFIED:20241015T075959Z
UID:1032-1734206400-1734215400@piano-occitanie.fr
SUMMARY:Concert de l'Avent en décembre prochain avec le Duo Topaze
DESCRIPTION:
URL:https://piano-occitanie.fr/evenement/concert-de-lavent-en-decembre-prochain-avec-le-duo-topaze/
END:VEVENT
BEGIN:VEVENT
DTSTART;TZID=Europe/Paris:20241013T200000
DTEND;TZID=Europe/Paris:20241013T220000
DTSTAMP:20260420T142921
CREATED:20241012T002128Z
LAST-MODIFIED:20241012T002129Z
UID:1056-1728849600-1728856800@piano-occitanie.fr
SUMMARY:Master Class avec Aurélie SAMANI et les élèves du Conservatoire de Tarbes à l'occasion du 100ème anniversaire de la mort de Gabriel FAURE
DESCRIPTION:
URL:https://piano-occitanie.fr/evenement/master-class-avec-aurelie-samani-et-les-eleves-du-conservatoire-de-tarbes-a-loccasion-du-100eme-anniversaire-de-la-mort-de-gabriel-faure-2/
END:VEVENT
BEGIN:VEVENT
DTSTART;TZID=Europe/Paris:20241012T200000
DTEND;TZID=Europe/Paris:20241012T220000
DTSTAMP:20260420T142921
CREATED:20241012T002013Z
LAST-MODIFIED:20241012T002155Z
UID:1054-1728763200-1728770400@piano-occitanie.fr
SUMMARY:Master Class avec Aurélie SAMANI et les élèves du Conservatoire de Tarbes à l'occasion du 100ème anniversaire de la mort de Gabriel FAURE
DESCRIPTION:
URL:https://piano-occitanie.fr/evenement/master-class-avec-aurelie-samani-et-les-eleves-du-conservatoire-de-tarbes-a-loccasion-du-100eme-anniversaire-de-la-mort-de-gabriel-faure/
END:VEVENT
BEGIN:VEVENT
DTSTART;TZID=Europe/Paris:20230825T200000
DTEND;TZID=Europe/Paris:20230825T230000
DTSTAMP:20260420T142921
CREATED:20230810T212246Z
LAST-MODIFIED:20230812T153958Z
UID:998-1692993600-1693004400@piano-occitanie.fr
SUMMARY:Johanne Rossini & Marion Fornelli-Anton
DESCRIPTION:Concert avec une participation de 15 € par personne sur le thème de l’Amour par Johanne Rossini au chant et Marion Fornelli-Anton au piano. \n\n\n\n\n\n\n\n\n\n\n\n\n\nasso-piano-concert-25-aout-2023-amourTélécharger
URL:https://piano-occitanie.fr/evenement/johanne-rossini-marion-fornelli-anton/
END:VEVENT
BEGIN:VEVENT
DTSTART;TZID=Europe/Paris:20230811T200000
DTEND;TZID=Europe/Paris:20230811T230000
DTSTAMP:20260420T142921
CREATED:20230810T211240Z
LAST-MODIFIED:20230810T212546Z
UID:996-1691784000-1691794800@piano-occitanie.fr
SUMMARY:Diana Cooper\, Carla Moujahed-Coste & Helene Fleurbaey
DESCRIPTION:Concert  avec au piano Diana Cooper\, au violoncelle Carla Moujahed-Coste\, au violon Hélène Fleurbaey \n\n\n\nLa compositrice Audrey Cabarrou sera présente et les musiciennes interpréteront quelques unes de ses oeuvres. \n\n\n\n\n\n\n\n\n\n\n\n\n\nCONCERT-11-AOUT-2023Télécharger
URL:https://piano-occitanie.fr/evenement/diana-cooper-carla-moujahed-coste-helene-fleurbaey/
END:VEVENT
BEGIN:VEVENT
DTSTART;TZID=Europe/Paris:20230728T200000
DTEND;TZID=Europe/Paris:20230728T220000
DTSTAMP:20260420T142921
CREATED:20230708T081133Z
LAST-MODIFIED:20230708T081257Z
UID:949-1690574400-1690581600@piano-occitanie.fr
SUMMARY:James PEDERSEN
DESCRIPTION:Ce soir James vous propose un voyage émotionnel et virtuose focalisé sur le XIXème siècle avec des œuvres le plus connues\, ainsi que quelques surprises plus intimes. Grâce à son énergie au toucher\, ainsi que sa sensibilité et sa technique pianistique\, James espère vous faire ressentir sa passion pour la musique classique et de faire sonner de nouveau ce surprenant piano de 1890. 
URL:https://piano-occitanie.fr/evenement/james-pedersen/
END:VEVENT
BEGIN:VEVENT
DTSTART;TZID=Europe/Paris:20230721T200000
DTEND;TZID=Europe/Paris:20230721T230000
DTSTAMP:20260420T142921
CREATED:20230701T073710Z
LAST-MODIFIED:20230708T081820Z
UID:920-1689969600-1689980400@piano-occitanie.fr
SUMMARY:Mathilde Carrillon \, Justine Merlin en représentation
DESCRIPTION:Chers Amis\, Chers Adhérents\, \n\n\n\nL’association Autour d’un piano 1890 a le plaisir de vous proposer un concert avec deux interprètes\, Mathilde Carrillon au piano et Justine Merlin au violoncelle le vendredi 21 juillet prochain à 20h\, au 16 rue du Lavoir\, LANNE (voir la pièce jointe). \n\n\n\nLe Duo « Les Ménestrelles » nous ravira avec un programme ayant pour thème principal la sonate de Brahms en mi mineur op 38\, et des pièces courtes de Dvoràk\, Fauré et Cassado. \n\n\n\nCompte-tenu du nombre limité des places\, nous vous remercions de nous faire un retourau plus tard le 10 juillet sur votre présence. \n\n\n\nUn chapeau circulera à la fin du concert pour ces deux jeunes musiciennes étudiantes au Conservatoire de Toulouse. Il leur sera intégralement remis\, l’association ne pouvant les rémunérer. \n\n\n\nSi ce n’est déjà fait\, merci de penser à renouveler vos adhésions pour l’année 2023 (15 euros) \, nous avons besoin de votre soutien financier pour continuer à permettre à de jeunes talents de s’exprimer et de s’entraîner. Deux concerts de plus sont programmés en juillet (28/7) et en août (25/8). \n\n\n\nMusicalement vôtre. \n\n\n\nL’Association
URL:https://piano-occitanie.fr/evenement/920/
CATEGORIES:Rencontres Musicales
END:VEVENT
BEGIN:VEVENT
DTSTART;TZID=Europe/Paris:20230113T120000
DTEND;TZID=Europe/Paris:20230113T120000
DTSTAMP:20260420T142921
CREATED:20230108T141057Z
LAST-MODIFIED:20230108T141818Z
UID:883-1673611200-1673611200@piano-occitanie.fr
SUMMARY:Interpretations du 13 Janvier 2023
DESCRIPTION:Concert du 13 janvier 2023 \n\n\n\nPolichinelle de S. RACHMANINOVPiccadilly d’E. SATIEDernière nocturne de F.CHOPINSérénade pour contrebasse et piano deF. SCHUBERTTroisième mouvement du concerto deF. MENDELSSOHNDouble – Troisième mouvement de J. S. BACHRhapsodie n°2 de J. BRAHMSCzardas de V. MONTISento nel core de D. SCARLATTIExtrait de la symphonie 25 d’A. MOZARTExpérience de L. EINAUDIConcerto numéro 5 d’H. VIEUXTEMPSCes morceaux sont interprétés par Henry\, FirDaws\,Lison\, Alycia\, Séréné\, Maxime\, Solé\, Iliana\, Estéban\,Lucie\, et Maya.*** Belle année musicale 2023 ! *** \n\n\n\n\n\n\n\n\n\n\n\n\n\nprogramme du 13 janv 23_230103_180013Télécharger
URL:https://piano-occitanie.fr/evenement/interpretations-du-13-janvier-2023/
END:VEVENT
BEGIN:VEVENT
DTSTART;TZID=Europe/Paris:20220814T200000
DTEND;TZID=Europe/Paris:20220814T220000
DTSTAMP:20260420T142921
CREATED:20220627T112548Z
LAST-MODIFIED:20220627T112650Z
UID:100-1660507200-1660514400@piano-occitanie.fr
SUMMARY:Interprétations de Diana Cooper
DESCRIPTION:
URL:https://piano-occitanie.fr/evenement/interpretations-de-diana-cooper/
LOCATION:Association Autour d’un piano 1890\, 16 Rue de lavoir\, Lanne\, 68380\, France
ORGANIZER;CN="Association Autour d'un piano":MAILTO:asso.piano1890@gmail.com
END:VEVENT
BEGIN:VEVENT
DTSTART;TZID=Europe/Paris:20220528T200000
DTEND;TZID=Europe/Paris:20220528T230000
DTSTAMP:20260420T142921
CREATED:20220627T114915Z
LAST-MODIFIED:20220627T115038Z
UID:111-1653768000-1653778800@piano-occitanie.fr
SUMMARY:Interprétations par l'Ecole de Musique de Tarbes
DESCRIPTION:
URL:https://piano-occitanie.fr/evenement/interpretations-par-lecole-de-musique-de-tarbes/
LOCATION:Association Autour d’un piano 1890\, 16 Rue de lavoir\, Lanne\, 68380\, France
ORGANIZER;CN="Association Autour d'un piano":MAILTO:asso.piano1890@gmail.com
END:VEVENT
END:VCALENDAR